BEGIN:VCALENDAR
VERSION:2.0
PRODID:-//https://www.alcoholica.ca///NONSGML kigkonsult.se iCalcreator 2.10.15//
METHOD:PUBLISH
BEGIN:VEVENT
UID:20260422T083526UTC-7056uxIUfa@https://www.alcoholica.ca/
DTSTAMP:20260422T083526Z
DESCRIPTION:Billets en vente ici:https://lepointdevente.com/billets/zx02605
 30001 https://www.alcoholica.ca/fr/component/rseventspro/evenement/517-bra
 sserie-port-alrfred-la-baie?Itemid=323
DTSTART:20260531T003000Z
DTEND:20260531T035700Z
LOCATION:Brasserie Port-Alfred (531 1ère Rue\, La Baie\, QC G7B 2H1\, Canad
 a)
SUMMARY:Brasserie Port-Alrfred - La Baie
URL:https://www.alcoholica.ca/fr/component/rseventspro/evenement/517-brasse
 rie-port-alrfred-la-baie?Itemid=323
END:VEVENT
END:VCALENDAR
